BEGIN:VCALENDAR
VERSION:2.0
PRODID:-//The United Church of Christ in Keene - ECPv6.15.20//NONSGML v1.0//EN
CALSCALE:GREGORIAN
METHOD:PUBLISH
X-WR-CALNAME:The United Church of Christ in Keene
X-ORIGINAL-URL:https://ucckeene.org
X-WR-CALDESC:Events for The United Church of Christ in Keene
REFRESH-INTERVAL;VALUE=DURATION:PT1H
X-Robots-Tag:noindex
X-PUBLISHED-TTL:PT1H
BEGIN:VTIMEZONE
TZID:America/New_York
BEGIN:DAYLIGHT
TZOFFSETFROM:-0500
TZOFFSETTO:-0400
TZNAME:EDT
DTSTART:20220313T070000
END:DAYLIGHT
BEGIN:STANDARD
TZOFFSETFROM:-0400
TZOFFSETTO:-0500
TZNAME:EST
DTSTART:20221106T060000
END:STANDARD
BEGIN:DAYLIGHT
TZOFFSETFROM:-0500
TZOFFSETTO:-0400
TZNAME:EDT
DTSTART:20230312T070000
END:DAYLIGHT
BEGIN:STANDARD
TZOFFSETFROM:-0400
TZOFFSETTO:-0500
TZNAME:EST
DTSTART:20231105T060000
END:STANDARD
BEGIN:DAYLIGHT
TZOFFSETFROM:-0500
TZOFFSETTO:-0400
TZNAME:EDT
DTSTART:20240310T070000
END:DAYLIGHT
BEGIN:STANDARD
TZOFFSETFROM:-0400
TZOFFSETTO:-0500
TZNAME:EST
DTSTART:20241103T060000
END:STANDARD
END:VTIMEZONE
BEGIN:VEVENT
DTSTART;TZID=America/New_York:20230205T100000
DTEND;TZID=America/New_York:20230205T110000
DTSTAMP:20260425T102708
CREATED:20221222T140121Z
LAST-MODIFIED:20221222T140121Z
UID:10000641-1675591200-1675594800@ucckeene.org
SUMMARY:Stewardship Sunday
DESCRIPTION:Join us for worship as we launch this year’s Stewardship Campaign based on the words of Paul in Romans 9:12\, Hold Fast to What is Good. Communion will be served and is open to all. \nLive stream at ucckeene.org/worship-care/live/.
URL:https://ucckeene.org/event/stewardship-sunday/
LOCATION:NH
ATTACH;FMTTYPE=image/jpeg:https://ucckeene.org/wp-content/uploads/2022/12/7-stewardship.jpg
END:VEVENT
BEGIN:VEVENT
DTSTART;TZID=America/New_York:20230208T120000
DTEND;TZID=America/New_York:20230208T140000
DTSTAMP:20260425T102708
CREATED:20220607T210744Z
LAST-MODIFIED:20230122T144826Z
UID:10000622-1675857600-1675864800@ucckeene.org
SUMMARY:Women’s Fellowship Annual Valentine’s Luncheon
DESCRIPTION:Valentine Luncheon\, held in the Church Parlor\, followed by a music program by The Hillside Trio of Douglas Nelson\, Barbara Summers\, and Sussan Henkel. Please call the church office to sign up by Feb. 6. $10 at the door. Snow date is Feb. 15.
URL:https://ucckeene.org/event/womens-fellowship-annual-valentines-luncheon/
LOCATION:NH
ATTACH;FMTTYPE=image/jpeg:https://ucckeene.org/wp-content/uploads/2022/06/heart.jpg
END:VEVENT
BEGIN:VEVENT
DTSTART;TZID=America/New_York:20230212T100000
DTEND;TZID=America/New_York:20230212T110000
DTSTAMP:20260425T102708
CREATED:20221222T140240Z
LAST-MODIFIED:20221222T140240Z
UID:10000642-1676196000-1676199600@ucckeene.org
SUMMARY:Racial Justice Sunday
DESCRIPTION:Join us as we explore our call to work for racial justice in our community\, country\, and world. \n 
URL:https://ucckeene.org/event/racial-justice-sunday/
LOCATION:The United Church of Christ in Keene\, 23 Central Square\, Keene\, NH\, 03431\, United States
ATTACH;FMTTYPE=image/jpeg:https://ucckeene.org/wp-content/uploads/2022/12/8-racial-justice.jpg
END:VEVENT
BEGIN:VEVENT
DTSTART;TZID=America/New_York:20230219T100000
DTEND;TZID=America/New_York:20230219T110000
DTSTAMP:20260425T102708
CREATED:20221222T140328Z
LAST-MODIFIED:20221222T140508Z
UID:10000643-1676800800-1676804400@ucckeene.org
SUMMARY:Transfiguration Sunday
DESCRIPTION:Join us as we close the season of Epiphany and prepare for the season of Lent with the story of the Transfiguration of Christ. \nLive stream at ucckeene.org/worship-care/live/. \n 
URL:https://ucckeene.org/event/transfiguration-sunday/
LOCATION:The United Church of Christ in Keene\, 23 Central Square\, Keene\, NH\, 03431\, United States
ATTACH;FMTTYPE=image/jpeg:https://ucckeene.org/wp-content/uploads/2022/12/9-transfiguration.jpg
END:VEVENT
BEGIN:VEVENT
DTSTART;TZID=America/New_York:20230222T120000
DTEND;TZID=America/New_York:20230222T130000
DTSTAMP:20260425T102708
CREATED:20221222T140438Z
LAST-MODIFIED:20221227T144754Z
UID:10000644-1677067200-1677070800@ucckeene.org
SUMMARY:Ash Wednesday Worship
DESCRIPTION:Noon in the Chapel \nJoin us in the Chapel for a simple and brief Ash Wednesday service of worship. Lent is the most sacred season in the Christian faith. Join us as we pause to reflect on the meaning of Jesus’ walk to the cross and the promise of Easter morning in our lives. Communion will be served and is open to all.
URL:https://ucckeene.org/event/ash-wednesday-worship/
LOCATION:The United Church of Christ in Keene\, 23 Central Square\, Keene\, NH\, 03431\, United States
ATTACH;FMTTYPE=image/jpeg:https://ucckeene.org/wp-content/uploads/2022/12/10-ash-wednesday.jpg
END:VEVENT
BEGIN:VEVENT
DTSTART;TZID=America/New_York:20230226T100000
DTEND;TZID=America/New_York:20230226T110000
DTSTAMP:20260425T102708
CREATED:20221222T140605Z
LAST-MODIFIED:20230221T165240Z
UID:10000645-1677405600-1677409200@ucckeene.org
SUMMARY:Sunday Worship: Lent I
DESCRIPTION:Loving the Jesus Way: Part I \nGuest Preacher\, Sherman Morrison\nLive stream at ucckeene.org/worship-care/live/.
URL:https://ucckeene.org/event/sunday-worship-lent-i/
LOCATION:The United Church of Christ in Keene\, 23 Central Square\, Keene\, NH\, 03431\, United States
ATTACH;FMTTYPE=image/jpeg:https://ucckeene.org/wp-content/uploads/2022/12/lent.jpg
END:VEVENT
BEGIN:VEVENT
DTSTART;TZID=America/New_York:20230226T110000
DTEND;TZID=America/New_York:20230226T120000
DTSTAMP:20260425T102708
CREATED:20230221T164519Z
LAST-MODIFIED:20230221T164519Z
UID:10001063-1677409200-1677412800@ucckeene.org
SUMMARY:Landscapes on Display at UCC Keene in February
DESCRIPTION:An exhibit of landscapes of the Monadnock Region by photographer Betsy Zimmerli and her late husband\, painter Ed Zimmerli\, is on display in the East Room\, lower level\, of the United Church of Christ in Keene through the month of February. The exhibit is open to the public\, free of charge. \nThe gallery is open Sundays after worship services\, 11 am to noon. The weekday entrance to UCC-Keene is at the rear door off Vernon Street\, where there is a doorbell for visitors if the double doors are locked. This is also a handicapped accessible entrance. \nBetsy Zimmerli began her interest in photography back in her high school years\, when film was in black and white only. She moved with the times to the automatic features of digital photography and especially enjoys the landscape opportunities of the Monadnock Region. She also enjoys using a digital program to enhance her photos with various “painting” effects. \nEd Zimmerli\, now deceased\, began painting when he and Betsy moved to Keene more than 20 years ago. He sang bass in the Church choir for many years. In his art\, he used a palette knife exclusively\, which gave an impasto effect to his landscapes and barn images. Included in this exhibit is his pen and ink sketch of Martin Luther King\, Jr.\, from a cover of Ebony Magazine in the 1970s.
URL:https://ucckeene.org/event/landscapes-on-display-at-ucc-keene-in-february-2/
LOCATION:The United Church of Christ in Keene\, 23 Central Square\, Keene\, NH\, 03431\, United States
ATTACH;FMTTYPE=image/jpeg:https://ucckeene.org/wp-content/uploads/2023/01/Zimmerli-Betsy.jpg
END:VEVENT
END:VCALENDAR