BEGIN:VCALENDAR
VERSION:2.0
PRODID:-//The United Church of Christ in Keene - ECPv6.15.20//NONSGML v1.0//EN
CALSCALE:GREGORIAN
METHOD:PUBLISH
X-ORIGINAL-URL:https://ucckeene.org
X-WR-CALDESC:Events for The United Church of Christ in Keene
REFRESH-INTERVAL;VALUE=DURATION:PT1H
X-Robots-Tag:noindex
X-PUBLISHED-TTL:PT1H
BEGIN:VTIMEZONE
TZID:America/New_York
BEGIN:DAYLIGHT
TZOFFSETFROM:-0500
TZOFFSETTO:-0400
TZNAME:EDT
DTSTART:20220313T070000
END:DAYLIGHT
BEGIN:STANDARD
TZOFFSETFROM:-0400
TZOFFSETTO:-0500
TZNAME:EST
DTSTART:20221106T060000
END:STANDARD
BEGIN:DAYLIGHT
TZOFFSETFROM:-0500
TZOFFSETTO:-0400
TZNAME:EDT
DTSTART:20230312T070000
END:DAYLIGHT
BEGIN:STANDARD
TZOFFSETFROM:-0400
TZOFFSETTO:-0500
TZNAME:EST
DTSTART:20231105T060000
END:STANDARD
BEGIN:DAYLIGHT
TZOFFSETFROM:-0500
TZOFFSETTO:-0400
TZNAME:EDT
DTSTART:20240310T070000
END:DAYLIGHT
BEGIN:STANDARD
TZOFFSETFROM:-0400
TZOFFSETTO:-0500
TZNAME:EST
DTSTART:20241103T060000
END:STANDARD
END:VTIMEZONE
BEGIN:VEVENT
DTSTART;TZID=America/New_York:20230504T103000
DTEND;TZID=America/New_York:20230504T120000
DTSTAMP:20260423T125400
CREATED:20230430T105729Z
LAST-MODIFIED:20230430T105907Z
UID:10001083-1683196200-1683201600@ucckeene.org
SUMMARY:‘Seeing with Delight’ Art Class for Women
DESCRIPTION:At the UCC-Keene\, Ella Rank is leading a Drawing Time for Women’s Fellowship on Thursday mornings in May. The class begins at 10:30 am on May 4\, 11\, 18\, and 25\, and lasts until noon. Space is limited to 12 persons. Participants may bring a lunch to share at noon. For more information contact jwhite@ucckeene.org.
URL:https://ucckeene.org/event/seeing-with-delight-art-class-for-women/
LOCATION:The United Church of Christ in Keene\, 23 Central Square\, Keene\, NH\, 03431\, United States
ATTACH;FMTTYPE=image/jpeg:https://ucckeene.org/wp-content/uploads/2023/04/art.jpg
END:VEVENT
BEGIN:VEVENT
DTSTART;TZID=America/New_York:20230506T090000
DTEND;TZID=America/New_York:20230506T140000
DTSTAMP:20260423T125400
CREATED:20230430T110013Z
LAST-MODIFIED:20230430T110141Z
UID:10001087-1683363600-1683381600@ucckeene.org
SUMMARY:Maps Counseling Services Annual Wellness Festival
DESCRIPTION:Maps Counseling Services hosts the annual Wellness Festival at the United Church of Christ in Keene\, 23 Central Square\, on Saturday\, May 6\, from 9 am to 2 pm. Admission is free; donations are welcome to support the hope and healing of our community. \nPrograms include potting plants\, pilates\, yoga\, mini massages\, art projects\, breath work\, and many more topics. Events are indoors and outdoors\, with fun for all ages. For more information\, click here: www.mapsnh.org/events.
URL:https://ucckeene.org/event/maps-counseling-services-annual-wellness-festival-may-6/
LOCATION:The United Church of Christ in Keene\, 23 Central Square\, Keene\, NH\, 03431\, United States
ATTACH;FMTTYPE=image/jpeg:https://ucckeene.org/wp-content/uploads/2023/04/Pink-Floral-Hello-May-Wallpaper.jpg
END:VEVENT
BEGIN:VEVENT
DTSTART;TZID=America/New_York:20230507T100000
DTEND;TZID=America/New_York:20230507T110000
DTSTAMP:20260423T125400
CREATED:20221222T141916Z
LAST-MODIFIED:20221222T141916Z
UID:10000657-1683453600-1683457200@ucckeene.org
SUMMARY:Sunday Worship
DESCRIPTION:Paul: Part III \nJoin us on this Fifth Sunday of Easter as we conclude our three-part series on the Apostle Paul. In today’s story\, Paul delivers his famous sermon to the Athenians: “I proclaim to you…” Communion will be served and is open to all. \nLive stream at ucckeene.org/worship-care/live/.
URL:https://ucckeene.org/event/sunday-worship-5/
LOCATION:The United Church of Christ in Keene\, 23 Central Square\, Keene\, NH\, 03431\, United States
ATTACH;FMTTYPE=image/jpeg:https://ucckeene.org/wp-content/uploads/2022/12/22-paul-iii.jpg
END:VEVENT
BEGIN:VEVENT
DTSTART;TZID=America/New_York:20230510T120000
DTEND;TZID=America/New_York:20230510T130000
DTSTAMP:20260423T125400
CREATED:20230122T145653Z
LAST-MODIFIED:20230122T145653Z
UID:10000672-1683720000-1683723600@ucckeene.org
SUMMARY:Women’s Fellowship\, Salad Luncheon
DESCRIPTION:Salad Luncheon\, held in the Church Parlor\, followed by Marlene Baldwin\, speaking on “The Seven Daughters of Eve.” Please call the Church Office by May 9. $5 at the door.
URL:https://ucckeene.org/event/womens-fellowship-salad-luncheon/
LOCATION:The United Church of Christ in Keene\, 23 Central Square\, Keene\, NH\, 03431\, United States
ATTACH;FMTTYPE=image/jpeg:https://ucckeene.org/wp-content/uploads/2023/01/salad.jpg
END:VEVENT
BEGIN:VEVENT
DTSTART;TZID=America/New_York:20230510T120000
DTEND;TZID=America/New_York:20230510T140000
DTSTAMP:20260423T125400
CREATED:20220607T210904Z
LAST-MODIFIED:20220607T210904Z
UID:10000623-1683720000-1683727200@ucckeene.org
SUMMARY:Women’s Fellowship Annual Salad Luncheon
DESCRIPTION:Women’s Fellowship Annual Salad Luncheon\, Speaker\, 2nd floor. Please email the office for more information\, info@ucckeene.org.
URL:https://ucckeene.org/event/womens-fellowship-annual-salad-luncheon/
LOCATION:NH
ATTACH;FMTTYPE=image/jpeg:https://ucckeene.org/wp-content/uploads/2022/06/Salad.jpg
END:VEVENT
BEGIN:VEVENT
DTSTART;TZID=America/New_York:20230511T103000
DTEND;TZID=America/New_York:20230511T120000
DTSTAMP:20260423T125400
CREATED:20230430T105926Z
LAST-MODIFIED:20230430T105926Z
UID:10001084-1683801000-1683806400@ucckeene.org
SUMMARY:‘Seeing with Delight’ Art Class for Women
DESCRIPTION:At the UCC-Keene\, Ella Rank is leading a Drawing Time for Women’s Fellowship on Thursday mornings in May. The class begins at 10:30 am on May 4\, 11\, 18\, and 25\, and lasts until noon. Space is limited to 12 persons. Participants may bring a lunch to share at noon. For more information contact jwhite@ucckeene.org.
URL:https://ucckeene.org/event/seeing-with-delight-art-class-for-women-2/
LOCATION:The United Church of Christ in Keene\, 23 Central Square\, Keene\, NH\, 03431\, United States
ATTACH;FMTTYPE=image/jpeg:https://ucckeene.org/wp-content/uploads/2023/04/art.jpg
END:VEVENT
BEGIN:VEVENT
DTSTART;TZID=America/New_York:20230514T100000
DTEND;TZID=America/New_York:20230514T110000
DTSTAMP:20260423T125400
CREATED:20221222T142001Z
LAST-MODIFIED:20230504T095338Z
UID:10000658-1684058400-1684062000@ucckeene.org
SUMMARY:Blessing Of The Animals!
DESCRIPTION:The United Church of Christ in Keene welcomes you to celebrate the blessing of our animal friends in our lives! \nWe invite to bring your pet\, but only if it is not too stressful and your pet is comfortable with other animals. Have dogs on leashes\, please. As always\, pictures of your pets (on paper or on cell phones) are welcome\, too. \nThe worship service begins at 10 am\, Sunday\, May 14\, outdoors in the Elsie Priest Park\, behind the UCC-Keene\, on the corner of Court and Vernon streets. If it rains\, the event will be held in the Church’s dining room\, accessible through the parking lot entrance on Vernon Street.
URL:https://ucckeene.org/event/blessing-of-the-animals/
LOCATION:NH
ATTACH;FMTTYPE=image/jpeg:https://ucckeene.org/wp-content/uploads/2022/12/23-animal-blessing.jpg
END:VEVENT
BEGIN:VEVENT
DTSTART;TZID=America/New_York:20230518T103000
DTEND;TZID=America/New_York:20230518T120000
DTSTAMP:20260423T125400
CREATED:20230430T105940Z
LAST-MODIFIED:20230430T105940Z
UID:10001085-1684405800-1684411200@ucckeene.org
SUMMARY:‘Seeing with Delight’ Art Class for Women
DESCRIPTION:At the UCC-Keene\, Ella Rank is leading a Drawing Time for Women’s Fellowship on Thursday mornings in May. The class begins at 10:30 am on May 4\, 11\, 18\, and 25\, and lasts until noon. Space is limited to 12 persons. Participants may bring a lunch to share at noon. For more information contact jwhite@ucckeene.org.
URL:https://ucckeene.org/event/seeing-with-delight-art-class-for-women-3/
LOCATION:The United Church of Christ in Keene\, 23 Central Square\, Keene\, NH\, 03431\, United States
ATTACH;FMTTYPE=image/jpeg:https://ucckeene.org/wp-content/uploads/2023/04/art.jpg
END:VEVENT
BEGIN:VEVENT
DTSTART;TZID=America/New_York:20230521T100000
DTEND;TZID=America/New_York:20230521T130000
DTSTAMP:20260423T125400
CREATED:20230424T142312Z
LAST-MODIFIED:20230518T193938Z
UID:10001082-1684663200-1684674000@ucckeene.org
SUMMARY:Living Our Faith: Clean Energy Solutions
DESCRIPTION:The Rev. Dr. Matthew Myer Boulton\, Preaching \nJoin us as we address the challenge of climate change with the hope and optimism our faith demands. Positive change is happening right here in Keene! Learn how we can make a difference as our community transitions to sustainable energy sources. Workshop to follow with Dr. Matthew Myer Boulton from 11:30 AM – 1:00 PM.
URL:https://ucckeene.org/event/living-our-faith-clean-energy-solutions/
LOCATION:The United Church of Christ in Keene\, 23 Central Square\, Keene\, NH\, 03431\, United States
ATTACH;FMTTYPE=image/jpeg:https://ucckeene.org/wp-content/uploads/2023/04/clean-energy.jpg
END:VEVENT
BEGIN:VEVENT
DTSTART;TZID=America/New_York:20230524T190000
DTEND;TZID=America/New_York:20230524T200000
DTSTAMP:20260423T125400
CREATED:20221222T142052Z
LAST-MODIFIED:20230516T093701Z
UID:10000659-1684954800-1684958400@ucckeene.org
SUMMARY:“Jazz Sanctuary” Service
DESCRIPTION:Join us as we welcome Rev. Emelia Halstead and the Jazz Sanctuary worship band from The First Congregational Church in Concord as they lead us in a very special jazz service of worship!
URL:https://ucckeene.org/event/jazz-sanctuary-service/
LOCATION:The United Church of Christ in Keene\, 23 Central Square\, Keene\, NH\, 03431\, United States
ATTACH;FMTTYPE=image/jpeg:https://ucckeene.org/wp-content/uploads/2022/12/24-jazz.jpg
END:VEVENT
BEGIN:VEVENT
DTSTART;TZID=America/New_York:20230525T103000
DTEND;TZID=America/New_York:20230525T120000
DTSTAMP:20260423T125400
CREATED:20230430T110001Z
LAST-MODIFIED:20230430T110001Z
UID:10001086-1685010600-1685016000@ucckeene.org
SUMMARY:‘Seeing with Delight’ Art Class for Women
DESCRIPTION:At the UCC-Keene\, Ella Rank is leading a Drawing Time for Women’s Fellowship on Thursday mornings in May. The class begins at 10:30 am on May 4\, 11\, 18\, and 25\, and lasts until noon. Space is limited to 12 persons. Participants may bring a lunch to share at noon. For more information contact jwhite@ucckeene.org.
URL:https://ucckeene.org/event/seeing-with-delight-art-class-for-women-4/
LOCATION:The United Church of Christ in Keene\, 23 Central Square\, Keene\, NH\, 03431\, United States
ATTACH;FMTTYPE=image/jpeg:https://ucckeene.org/wp-content/uploads/2023/04/art.jpg
END:VEVENT
BEGIN:VEVENT
DTSTART;TZID=America/New_York:20230525T173000
DTEND;TZID=America/New_York:20230525T190000
DTSTAMP:20260423T125400
CREATED:20230523T000921Z
LAST-MODIFIED:20230523T000921Z
UID:10001088-1685035800-1685041200@ucckeene.org
SUMMARY:Digital Art by Raleigh Ormerod on Display Through June 25
DESCRIPTION:“Prime of Night\,” a digital art installation by Raleigh Ormerod of Keene\, is on display in the East Room Gallery of the United Church of Christ in Keene\, now through June 25. Ormerod creates digital art that is printed on metal for a glossy result. He begins with triangles of color and ends with vibrant depictions of night-active animals—bear\, coyotes\, a jaguar. Each work is unique and copyrighted with the Library of Congress. \nThe public is invited to an Artist Reception from 5:30 to 7 pm\, Thursday\, May 25. The East Room Gallery is located on the ground floor and is handicapped accessible. Enter the Church through the back door from Vernon Street. \nOrmerod serves on the Keene City Council and School Board. He came to this artistic inspiration during a long medical journey\, but never had artistic interests or abilities before his illness. He points out a heart line in many of the animals\, and finds his art exemplifies resilience and hope. For more about the art: raleighsreflections.com
URL:https://ucckeene.org/event/digital-art-by-raleigh-ormerod-on-display-through-june-25/
LOCATION:The United Church of Christ in Keene\, 23 Central Square\, Keene\, NH\, 03431\, United States
ATTACH;FMTTYPE=image/jpeg:https://ucckeene.org/wp-content/uploads/2023/05/Ormerod-digital-art-OWL-1.jpg
END:VEVENT
BEGIN:VEVENT
DTSTART;TZID=America/New_York:20230528T100000
DTEND;TZID=America/New_York:20230528T110000
DTSTAMP:20260423T125400
CREATED:20221222T142129Z
LAST-MODIFIED:20221222T142129Z
UID:10000660-1685268000-1685271600@ucckeene.org
SUMMARY:Pentecost Sunday
DESCRIPTION:Join us as we celebrate the story of the coming of the Holy Spirit into the world! What does it mean to live in and by the Spirit? \nLive stream at ucckeene.org/worship-care/live/.
URL:https://ucckeene.org/event/pentecost-sunday/
LOCATION:The United Church of Christ in Keene\, 23 Central Square\, Keene\, NH\, 03431\, United States
ATTACH;FMTTYPE=image/jpeg:https://ucckeene.org/wp-content/uploads/2022/12/25-pentecost.jpg
END:VEVENT
END:VCALENDAR