BEGIN:VCALENDAR
VERSION:2.0
PRODID:-//The United Church of Christ in Keene - ECPv6.15.20//NONSGML v1.0//EN
CALSCALE:GREGORIAN
METHOD:PUBLISH
X-ORIGINAL-URL:https://ucckeene.org
X-WR-CALDESC:Events for The United Church of Christ in Keene
REFRESH-INTERVAL;VALUE=DURATION:PT1H
X-Robots-Tag:noindex
X-PUBLISHED-TTL:PT1H
BEGIN:VTIMEZONE
TZID:America/New_York
BEGIN:DAYLIGHT
TZOFFSETFROM:-0500
TZOFFSETTO:-0400
TZNAME:EDT
DTSTART:20230312T070000
END:DAYLIGHT
BEGIN:STANDARD
TZOFFSETFROM:-0400
TZOFFSETTO:-0500
TZNAME:EST
DTSTART:20231105T060000
END:STANDARD
BEGIN:DAYLIGHT
TZOFFSETFROM:-0500
TZOFFSETTO:-0400
TZNAME:EDT
DTSTART:20240310T070000
END:DAYLIGHT
BEGIN:STANDARD
TZOFFSETFROM:-0400
TZOFFSETTO:-0500
TZNAME:EST
DTSTART:20241103T060000
END:STANDARD
BEGIN:DAYLIGHT
TZOFFSETFROM:-0500
TZOFFSETTO:-0400
TZNAME:EDT
DTSTART:20250309T070000
END:DAYLIGHT
BEGIN:STANDARD
TZOFFSETFROM:-0400
TZOFFSETTO:-0500
TZNAME:EST
DTSTART:20251102T060000
END:STANDARD
END:VTIMEZONE
BEGIN:VEVENT
DTSTART;TZID=America/New_York:20240803T080000
DTEND;TZID=America/New_York:20240803T170000
DTSTAMP:20260421T070656
CREATED:20240701T122234Z
LAST-MODIFIED:20240701T122234Z
UID:10001330-1722672000-1722704400@ucckeene.org
SUMMARY:Summer Saturdays in the Park at UCC-Keene
DESCRIPTION:The six-week\, popular program\, Summer Saturdays in the Park\, takes place on July 6 to August 10\, from 10-11am in the Elsie Priest Park and Playground space behind the United Church of Christ in Keene. In years past\, the programs have included games\, art projects\, music experiences\, face painting\, scavenger hunts\, and touch-a-fire-truck. \nSummer Saturdays in the Park has no sign-ups\, the activities are offered to whomever shows up during the 10-11am time period. Leaders are Marty Hennum\, a Youth Group helper\, and volunteers from the Church. \nSaturdays in the Park space is a safe\, gated area with equipment for toddlers and older children. There is parking in the Church’s lot off Vernon Street\, behind the UCC-Keene building. All are welcome!
URL:https://ucckeene.org/event/summer-saturdays-in-the-park-at-ucc-keene/2024-08-03/
LOCATION:The United Church of Christ in Keene\, 23 Central Square\, Keene\, NH\, 03431\, United States
ATTACH;FMTTYPE=image/png:https://ucckeene.org/wp-content/uploads/2023/07/park.png
END:VEVENT
BEGIN:VEVENT
DTSTART;TZID=America/New_York:20240804T100000
DTEND;TZID=America/New_York:20240804T110000
DTSTAMP:20260421T070656
CREATED:20240531T101959Z
LAST-MODIFIED:20240531T101959Z
UID:10001279-1722765600-1722769200@ucckeene.org
SUMMARY:Sunday Worship
DESCRIPTION:Join us for Sunday worship at 10:00 am!\nLive stream at ucckeene.org/worship-care/live/.
URL:https://ucckeene.org/event/sunday-worship-20/2024-08-04/
LOCATION:The United Church of Christ in Keene\, 23 Central Square\, Keene\, NH\, 03431\, United States
ATTACH;FMTTYPE=image/jpeg:https://ucckeene.org/wp-content/uploads/2022/03/sunday-worship.jpg
END:VEVENT
BEGIN:VEVENT
DTSTART;TZID=America/New_York:20240808T190000
DTEND;TZID=America/New_York:20240808T200000
DTSTAMP:20260421T070656
CREATED:20240723T150525Z
LAST-MODIFIED:20240723T150525Z
UID:10001332-1723143600-1723147200@ucckeene.org
SUMMARY:Northeast Men’s Summer Chorus in Free Concert
DESCRIPTION:Come and enjoy a fun evening when the Northeast Men’s Summer Chorus sings at the United Church of Christ in Keene at 7pm\, Thursday\, August 8. Concert is free and open to the public. A donation is collected at the end of the program\, to be used by the Church. \nNortheast Men’s Summer Chorus (NMSC) is a group of singers who meet in August each year to perform a wide variety of music—musical theater\, pop\, patriotic\, glee club\, and spiritual selections—in three concerts in local churches. \nThe men and their families come from South Carolina\, New Jersey\, New York\, Connecticut\, Massachusetts\, New Hampshire\, and Vermont. Accompanist Kate Butterfield is a member of United Church of Christ in Keene. Special guest\, soprano JoAnne Mead\, will entertain during intermission. \nThe United Church of Christ is located at 23 Central Square\, Keene. There is an accessible entrance at the back door\, off Vernon Street or the Bank of America parking lot\, with an elevator inside to the Sanctuary on the second floor. All are welcome!
URL:https://ucckeene.org/event/northeast-mens-summer-chorus-in-free-concert/
LOCATION:The United Church of Christ in Keene\, 23 Central Square\, Keene\, NH\, 03431\, United States
ATTACH;FMTTYPE=image/jpeg:https://ucckeene.org/wp-content/uploads/2024/07/mens-summer-chorus.jpg
END:VEVENT
BEGIN:VEVENT
DTSTART;TZID=America/New_York:20240810T080000
DTEND;TZID=America/New_York:20240810T170000
DTSTAMP:20260421T070656
CREATED:20240701T122234Z
LAST-MODIFIED:20240701T122234Z
UID:10001331-1723276800-1723309200@ucckeene.org
SUMMARY:Summer Saturdays in the Park at UCC-Keene
DESCRIPTION:The six-week\, popular program\, Summer Saturdays in the Park\, takes place on July 6 to August 10\, from 10-11am in the Elsie Priest Park and Playground space behind the United Church of Christ in Keene. In years past\, the programs have included games\, art projects\, music experiences\, face painting\, scavenger hunts\, and touch-a-fire-truck. \nSummer Saturdays in the Park has no sign-ups\, the activities are offered to whomever shows up during the 10-11am time period. Leaders are Marty Hennum\, a Youth Group helper\, and volunteers from the Church. \nSaturdays in the Park space is a safe\, gated area with equipment for toddlers and older children. There is parking in the Church’s lot off Vernon Street\, behind the UCC-Keene building. All are welcome!
URL:https://ucckeene.org/event/summer-saturdays-in-the-park-at-ucc-keene/2024-08-10/
LOCATION:The United Church of Christ in Keene\, 23 Central Square\, Keene\, NH\, 03431\, United States
ATTACH;FMTTYPE=image/png:https://ucckeene.org/wp-content/uploads/2023/07/park.png
END:VEVENT
BEGIN:VEVENT
DTSTART;TZID=America/New_York:20240811T100000
DTEND;TZID=America/New_York:20240811T110000
DTSTAMP:20260421T070656
CREATED:20240531T101959Z
LAST-MODIFIED:20240531T101959Z
UID:10001280-1723370400-1723374000@ucckeene.org
SUMMARY:Sunday Worship
DESCRIPTION:Join us for Sunday worship at 10:00 am!\nLive stream at ucckeene.org/worship-care/live/.
URL:https://ucckeene.org/event/sunday-worship-20/2024-08-11/
LOCATION:The United Church of Christ in Keene\, 23 Central Square\, Keene\, NH\, 03431\, United States
ATTACH;FMTTYPE=image/jpeg:https://ucckeene.org/wp-content/uploads/2022/03/sunday-worship.jpg
END:VEVENT
BEGIN:VEVENT
DTSTART;TZID=America/New_York:20240818T100000
DTEND;TZID=America/New_York:20240818T110000
DTSTAMP:20260421T070656
CREATED:20240531T101959Z
LAST-MODIFIED:20240531T101959Z
UID:10001281-1723975200-1723978800@ucckeene.org
SUMMARY:Sunday Worship
DESCRIPTION:Join us for Sunday worship at 10:00 am!\nLive stream at ucckeene.org/worship-care/live/.
URL:https://ucckeene.org/event/sunday-worship-20/2024-08-18/
LOCATION:The United Church of Christ in Keene\, 23 Central Square\, Keene\, NH\, 03431\, United States
ATTACH;FMTTYPE=image/jpeg:https://ucckeene.org/wp-content/uploads/2022/03/sunday-worship.jpg
END:VEVENT
BEGIN:VEVENT
DTSTART;TZID=America/New_York:20240825T100000
DTEND;TZID=America/New_York:20240825T110000
DTSTAMP:20260421T070656
CREATED:20240531T101959Z
LAST-MODIFIED:20240531T101959Z
UID:10001282-1724580000-1724583600@ucckeene.org
SUMMARY:Sunday Worship
DESCRIPTION:Join us for Sunday worship at 10:00 am!\nLive stream at ucckeene.org/worship-care/live/.
URL:https://ucckeene.org/event/sunday-worship-20/2024-08-25/
LOCATION:The United Church of Christ in Keene\, 23 Central Square\, Keene\, NH\, 03431\, United States
ATTACH;FMTTYPE=image/jpeg:https://ucckeene.org/wp-content/uploads/2022/03/sunday-worship.jpg
END:VEVENT
END:VCALENDAR