BEGIN:VCALENDAR
VERSION:2.0
PRODID:-//The United Church of Christ in Keene - ECPv6.15.20//NONSGML v1.0//EN
CALSCALE:GREGORIAN
METHOD:PUBLISH
X-WR-CALNAME:The United Church of Christ in Keene
X-ORIGINAL-URL:https://ucckeene.org
X-WR-CALDESC:Events for The United Church of Christ in Keene
REFRESH-INTERVAL;VALUE=DURATION:PT1H
X-Robots-Tag:noindex
X-PUBLISHED-TTL:PT1H
BEGIN:VTIMEZONE
TZID:America/New_York
BEGIN:DAYLIGHT
TZOFFSETFROM:-0500
TZOFFSETTO:-0400
TZNAME:EDT
DTSTART:20230312T070000
END:DAYLIGHT
BEGIN:STANDARD
TZOFFSETFROM:-0400
TZOFFSETTO:-0500
TZNAME:EST
DTSTART:20231105T060000
END:STANDARD
BEGIN:DAYLIGHT
TZOFFSETFROM:-0500
TZOFFSETTO:-0400
TZNAME:EDT
DTSTART:20240310T070000
END:DAYLIGHT
BEGIN:STANDARD
TZOFFSETFROM:-0400
TZOFFSETTO:-0500
TZNAME:EST
DTSTART:20241103T060000
END:STANDARD
BEGIN:DAYLIGHT
TZOFFSETFROM:-0500
TZOFFSETTO:-0400
TZNAME:EDT
DTSTART:20250309T070000
END:DAYLIGHT
BEGIN:STANDARD
TZOFFSETFROM:-0400
TZOFFSETTO:-0500
TZNAME:EST
DTSTART:20251102T060000
END:STANDARD
END:VTIMEZONE
BEGIN:VEVENT
DTSTART;TZID=America/New_York:20240901T100000
DTEND;TZID=America/New_York:20240901T110000
DTSTAMP:20260423T064438
CREATED:20240531T101959Z
LAST-MODIFIED:20240531T101959Z
UID:10001283-1725184800-1725188400@ucckeene.org
SUMMARY:Sunday Worship
DESCRIPTION:Join us for Sunday worship at 10:00 am!\nLive stream at ucckeene.org/worship-care/live/.
URL:https://ucckeene.org/event/sunday-worship-20/2024-09-01/
LOCATION:The United Church of Christ in Keene\, 23 Central Square\, Keene\, NH\, 03431\, United States
ATTACH;FMTTYPE=image/jpeg:https://ucckeene.org/wp-content/uploads/2022/03/sunday-worship.jpg
END:VEVENT
BEGIN:VEVENT
DTSTART;TZID=America/New_York:20240908T100000
DTEND;TZID=America/New_York:20240908T110000
DTSTAMP:20260423T064438
CREATED:20240531T101959Z
LAST-MODIFIED:20240531T101959Z
UID:10001284-1725789600-1725793200@ucckeene.org
SUMMARY:Sunday Worship
DESCRIPTION:Join us for Sunday worship at 10:00 am!\nLive stream at ucckeene.org/worship-care/live/.
URL:https://ucckeene.org/event/sunday-worship-20/2024-09-08/
LOCATION:The United Church of Christ in Keene\, 23 Central Square\, Keene\, NH\, 03431\, United States
ATTACH;FMTTYPE=image/jpeg:https://ucckeene.org/wp-content/uploads/2022/03/sunday-worship.jpg
END:VEVENT
BEGIN:VEVENT
DTSTART;TZID=America/New_York:20240908T100000
DTEND;TZID=America/New_York:20240908T110000
DTSTAMP:20260423T064438
CREATED:20240903T161029Z
LAST-MODIFIED:20240903T161041Z
UID:10001334-1725789600-1725793200@ucckeene.org
SUMMARY:UCC-Keene Barbecue with Friends
DESCRIPTION:Church members and friends are invited to the annual All Church Barbecue and Picnic\, beginning after the Sunday Worship Service on September 8. The service begins at 10 am in the Sanctuary and the barbecue begins at 11 am behind the Church\, next to the Elsie Priest Park and Playground. \nThere is barbecue seating outside or inside in the first floor dining room. The menu features hamburgers\, hot dogs\, salads\, and dessert. No one goes hungry! \nThere’s an accessible entrance to the Church from Vernon Street\, with an elevator to the Sanctuary on the second floor. All are welcome to bring friends and join this welcoming and delicious Sunday event!
URL:https://ucckeene.org/event/ucc-keene-barbecue-with-friends/
LOCATION:The United Church of Christ in Keene\, 23 Central Square\, Keene\, NH\, 03431\, United States
ATTACH;FMTTYPE=image/jpeg:https://ucckeene.org/wp-content/uploads/2023/09/2-gathering.jpg
END:VEVENT
BEGIN:VEVENT
DTSTART;TZID=America/New_York:20240915T100000
DTEND;TZID=America/New_York:20240915T110000
DTSTAMP:20260423T064438
CREATED:20240531T101959Z
LAST-MODIFIED:20240531T101959Z
UID:10001285-1726394400-1726398000@ucckeene.org
SUMMARY:Sunday Worship
DESCRIPTION:Join us for Sunday worship at 10:00 am!\nLive stream at ucckeene.org/worship-care/live/.
URL:https://ucckeene.org/event/sunday-worship-20/2024-09-15/
LOCATION:The United Church of Christ in Keene\, 23 Central Square\, Keene\, NH\, 03431\, United States
ATTACH;FMTTYPE=image/jpeg:https://ucckeene.org/wp-content/uploads/2022/03/sunday-worship.jpg
END:VEVENT
BEGIN:VEVENT
DTSTART;TZID=America/New_York:20240920T190000
DTEND;TZID=America/New_York:20240920T200000
DTSTAMP:20260423T064438
CREATED:20240917T152138Z
LAST-MODIFIED:20240917T152138Z
UID:10001342-1726858800-1726862400@ucckeene.org
SUMMARY:Youth Group Coffee House on Friday at 7 pm!
DESCRIPTION:The UCC-Keene Youth Group will host a fundraiser Coffee House at 7 pm\, Friday\, Sept. 20\, at the United Church of Christ in Keene\, second floor\, open to the public. Live performances are featured and the proceeds go to the Youth Group mission trip in the spring. Admission is $8. \nThose interested in performing may contact Marty Henna\, hennum@ne.rr.com\, to reserve a spot. Performance fee is $15. \nCome along and bring your talent\, also friends and family. There is an accessible entrance at the rear of the Church\, from Vernon Street\, and an elevator to the second floor. All are welcome!
URL:https://ucckeene.org/event/youth-group-coffee-house-on-friday-at-7-pm/
LOCATION:The United Church of Christ in Keene\, 23 Central Square\, Keene\, NH\, 03431\, United States
ATTACH;FMTTYPE=image/jpeg:https://ucckeene.org/wp-content/uploads/2024/09/download.jpg
END:VEVENT
BEGIN:VEVENT
DTSTART;TZID=America/New_York:20240922T100000
DTEND;TZID=America/New_York:20240922T110000
DTSTAMP:20260423T064438
CREATED:20240917T131528Z
LAST-MODIFIED:20240917T131824Z
UID:10001286-1726999200-1727002800@ucckeene.org
SUMMARY:Sunday Worship\, Seasons of Creation Sunday
DESCRIPTION:Join us as we celebrate God’s gift of creation. Sherman Morrison preaching.\nLive stream at ucckeene.org/worship-care/live/.
URL:https://ucckeene.org/event/sunday-worship-21/
LOCATION:The United Church of Christ in Keene\, 23 Central Square\, Keene\, NH\, 03431\, United States
ATTACH;FMTTYPE=image/jpeg:https://ucckeene.org/wp-content/uploads/2024/09/seasons-of-creation.jpg
END:VEVENT
BEGIN:VEVENT
DTSTART;TZID=America/New_York:20240928T080000
DTEND;TZID=America/New_York:20240928T143000
DTSTAMP:20260423T064438
CREATED:20240827T185649Z
LAST-MODIFIED:20240827T185649Z
UID:10001333-1727510400-1727533800@ucckeene.org
SUMMARY:Rummage Sale and Flea Market
DESCRIPTION:The annual fall Rummage Sale and Flea Market\, presented by the Women’s Fellowship\, takes place on Saturday\, September 28\, at the United Church of Christ in Keene\, 23 Central Square\, from 8 am to noon. From 12:30 to 2 pm\, there is a bag sale for $3 or $5\, depending on the size of the bag you buy to fill with whatever you find. \nThe sale is in the Dining Room\, Chapel\, and East Room\, all on the first floor of the Church. It’s accessible from the rear doors on Vernon Street\, as well as from Central Square\, but there are stairs at that entrance. \nProceeds from the sale go to non-profit organizations in Keene. Visit our sale for the good community spirit and the good buys!
URL:https://ucckeene.org/event/rummage-sale-and-flea-market/
LOCATION:The United Church of Christ in Keene\, 23 Central Square\, Keene\, NH\, 03431\, United States
ATTACH;FMTTYPE=image/webp:https://ucckeene.org/wp-content/uploads/2024/08/istockphoto-1211005910-612x612-1.webp
END:VEVENT
BEGIN:VEVENT
DTSTART;TZID=America/New_York:20240929T100000
DTEND;TZID=America/New_York:20240929T110000
DTSTAMP:20260423T064438
CREATED:20240917T132453Z
LAST-MODIFIED:20240917T132552Z
UID:10001287-1727604000-1727607600@ucckeene.org
SUMMARY:Sunday Worship\, Interplay Theme
DESCRIPTION:Join us for a fascinating worship experience in the spirit of Interplay\, an international movement that celebrates the wisdom of the body through movement\, storytelling\, song\, voice\, dance\, witness\, and stillness. \nWorkshop to follow from 11:30 AM -1:00 PM! Register by contacting the Church office. Donations appreciated but not required. \nLive stream at ucckeene.org/worship-care/live/.
URL:https://ucckeene.org/event/sunday-worship-22/
LOCATION:The United Church of Christ in Keene\, 23 Central Square\, Keene\, NH\, 03431\, United States
ATTACH;FMTTYPE=image/jpeg:https://ucckeene.org/wp-content/uploads/2024/09/interplay.jpg
END:VEVENT
END:VCALENDAR