BEGIN:VCALENDAR
VERSION:2.0
PRODID:-//The United Church of Christ in Keene - ECPv6.15.20//NONSGML v1.0//EN
CALSCALE:GREGORIAN
METHOD:PUBLISH
X-WR-CALNAME:The United Church of Christ in Keene
X-ORIGINAL-URL:https://ucckeene.org
X-WR-CALDESC:Events for The United Church of Christ in Keene
REFRESH-INTERVAL;VALUE=DURATION:PT1H
X-Robots-Tag:noindex
X-PUBLISHED-TTL:PT1H
BEGIN:VTIMEZONE
TZID:America/New_York
BEGIN:DAYLIGHT
TZOFFSETFROM:-0500
TZOFFSETTO:-0400
TZNAME:EDT
DTSTART:20230312T070000
END:DAYLIGHT
BEGIN:STANDARD
TZOFFSETFROM:-0400
TZOFFSETTO:-0500
TZNAME:EST
DTSTART:20231105T060000
END:STANDARD
BEGIN:DAYLIGHT
TZOFFSETFROM:-0500
TZOFFSETTO:-0400
TZNAME:EDT
DTSTART:20240310T070000
END:DAYLIGHT
BEGIN:STANDARD
TZOFFSETFROM:-0400
TZOFFSETTO:-0500
TZNAME:EST
DTSTART:20241103T060000
END:STANDARD
BEGIN:DAYLIGHT
TZOFFSETFROM:-0500
TZOFFSETTO:-0400
TZNAME:EDT
DTSTART:20250309T070000
END:DAYLIGHT
BEGIN:STANDARD
TZOFFSETFROM:-0400
TZOFFSETTO:-0500
TZNAME:EST
DTSTART:20251102T060000
END:STANDARD
END:VTIMEZONE
BEGIN:VEVENT
DTSTART;TZID=America/New_York:20241103T090000
DTEND;TZID=America/New_York:20241103T130000
DTSTAMP:20260423T090009
CREATED:20241029T225830Z
LAST-MODIFIED:20241029T230008Z
UID:10001361-1730624400-1730638800@ucckeene.org
SUMMARY:Paintings of Birds\, Flowers at UCC-Keene
DESCRIPTION:Paintings of the birds and flowers in the backyard of Jim Lambert’s Greenville\, NH\, home are on display in the East Room Gallery at the United Church of Christ in Keene\, October through November 2024. The art exhibit is free and open to the public. \nJim Lambert is a native of Marlborough\, NH\, and a graduate of Keene State College and Rivier University. A longtime teacher of languages in southern New Hampshire schools\, he is a self-taught hobbyist who is inspired by his home’s several gardens\, nature’s abundance\, the Impressionist painters\, and his travels abroad. \nHis art philosophy is: Art nurtures the spirit; it survives the present; it should be accessible to all. He has won several awards for his art and has displayed his work at various venues\, including the Monadnock Area Artists Association’s “Art in the Park” in Keene. \nThe UCC-Keene Church is located at 23 Central Square\, with an accessible entrance via the rear door off Vernon Street. The East Room Gallery is on the ground floor. Call the Church office (603-352-4136) if you wish to visit during the week\, 9 am to 1 pm. The church is closed on Saturdays; open on Sundays from 9 am to noon.
URL:https://ucckeene.org/event/paintings-of-birds-flowers-at-ucc-keene-3/2024-11-03/
LOCATION:The United Church of Christ in Keene\, 23 Central Square\, Keene\, NH\, 03431\, United States
ATTACH;FMTTYPE=image/jpeg:https://ucckeene.org/wp-content/uploads/2024/10/thumbnail_img123202-3.jpeg
END:VEVENT
BEGIN:VEVENT
DTSTART;TZID=America/New_York:20241103T100000
DTEND;TZID=America/New_York:20241103T110000
DTSTAMP:20260423T090009
CREATED:20240917T132913Z
LAST-MODIFIED:20240917T132950Z
UID:10001292-1730628000-1730631600@ucckeene.org
SUMMARY:Sunday Worship\,Caring Ministries Sunday Communion
DESCRIPTION:Join us as we celebrate our caring ministries and the volunteers who provide spiritual comfort and support to others. Communion is open to all!\nDon’t forget to turn your clocks back! \nLive stream at ucckeene.org/worship-care/live/.
URL:https://ucckeene.org/event/sunday-worship-27/
LOCATION:The United Church of Christ in Keene\, 23 Central Square\, Keene\, NH\, 03431\, United States
ATTACH;FMTTYPE=image/jpeg:https://ucckeene.org/wp-content/uploads/2024/09/hands.jpg
END:VEVENT
BEGIN:VEVENT
DTSTART;TZID=America/New_York:20241108T190000
DTEND;TZID=America/New_York:20241108T200000
DTSTAMP:20260423T090009
CREATED:20241028T204513Z
LAST-MODIFIED:20241028T204513Z
UID:10001356-1731092400-1731096000@ucckeene.org
SUMMARY:Coffee House at UCC
DESCRIPTION:Get ready for the second fabulous Coffee House at 7 pm\, Friday\, November 8\, in the first floor dining room at United Church of Christ in Keene. Admission is $8 to attend\, $15 if you are performing. \nPerformance sign-ups are made in advance by contacting the Youth Director\, Marty Hennum. hennum@ne.rr.com \nProduced by the UCC-Keene Youth Group\, the evening showcases a variety of talent\, fun snacks\, and support for the Youth Group’s Spring Service Trip. \nThe dining room is accessible from the Vernon Street parking lot at the back of the Church building. All are welcome!
URL:https://ucckeene.org/event/coffee-house-at-ucc/
LOCATION:NH
ATTACH;FMTTYPE=image/jpeg:https://ucckeene.org/wp-content/uploads/2024/10/coffee.jpg
END:VEVENT
BEGIN:VEVENT
DTSTART;TZID=America/New_York:20241110T090000
DTEND;TZID=America/New_York:20241110T130000
DTSTAMP:20260423T090009
CREATED:20241029T225830Z
LAST-MODIFIED:20241029T230008Z
UID:10001362-1731229200-1731243600@ucckeene.org
SUMMARY:Paintings of Birds\, Flowers at UCC-Keene
DESCRIPTION:Paintings of the birds and flowers in the backyard of Jim Lambert’s Greenville\, NH\, home are on display in the East Room Gallery at the United Church of Christ in Keene\, October through November 2024. The art exhibit is free and open to the public. \nJim Lambert is a native of Marlborough\, NH\, and a graduate of Keene State College and Rivier University. A longtime teacher of languages in southern New Hampshire schools\, he is a self-taught hobbyist who is inspired by his home’s several gardens\, nature’s abundance\, the Impressionist painters\, and his travels abroad. \nHis art philosophy is: Art nurtures the spirit; it survives the present; it should be accessible to all. He has won several awards for his art and has displayed his work at various venues\, including the Monadnock Area Artists Association’s “Art in the Park” in Keene. \nThe UCC-Keene Church is located at 23 Central Square\, with an accessible entrance via the rear door off Vernon Street. The East Room Gallery is on the ground floor. Call the Church office (603-352-4136) if you wish to visit during the week\, 9 am to 1 pm. The church is closed on Saturdays; open on Sundays from 9 am to noon.
URL:https://ucckeene.org/event/paintings-of-birds-flowers-at-ucc-keene-3/2024-11-10/
LOCATION:The United Church of Christ in Keene\, 23 Central Square\, Keene\, NH\, 03431\, United States
ATTACH;FMTTYPE=image/jpeg:https://ucckeene.org/wp-content/uploads/2024/10/thumbnail_img123202-3.jpeg
END:VEVENT
BEGIN:VEVENT
DTSTART;TZID=America/New_York:20241110T100000
DTEND;TZID=America/New_York:20241110T110000
DTSTAMP:20260423T090009
CREATED:20240917T133001Z
LAST-MODIFIED:20240917T133032Z
UID:10001293-1731232800-1731236400@ucckeene.org
SUMMARY:Sunday Worship\, UKAMA Sunday
DESCRIPTION:The United Church of Christ is proud of its partnership with the Mt. Selinda United Church of Christ in Zimbabwe. The word for this special friendship is ukama. Join us as we celebrate our brothers and sisters in Africa with a very special program! \nLive stream at ucckeene.org/worship-care/live/.
URL:https://ucckeene.org/event/sunday-worship-28/
LOCATION:The United Church of Christ in Keene\, 23 Central Square\, Keene\, NH\, 03431\, United States
ATTACH;FMTTYPE=image/jpeg:https://ucckeene.org/wp-content/uploads/2024/09/veterans-day.jpg
END:VEVENT
BEGIN:VEVENT
DTSTART;TZID=America/New_York:20241113T130000
DTEND;TZID=America/New_York:20241113T140000
DTSTAMP:20260423T090009
CREATED:20240923T200750Z
LAST-MODIFIED:20240923T200750Z
UID:10001344-1731502800-1731506400@ucckeene.org
SUMMARY:Women’s Fellowship Program: Santa and the Magic Mushrooms
DESCRIPTION:Susie Spikol\, community programs director for the Harris Center for Conservation Education\, is the speaker at 1 pm\, Wednesday\, November 13\, in the Church Parlor. Devotions will be led by Peg Barrett and light refreshments will be served. Guests are always welcome.
URL:https://ucckeene.org/event/womens-fellowship-program-santa-and-the-magic-mushrooms/
LOCATION:The United Church of Christ in Keene\, 23 Central Square\, Keene\, NH\, 03431\, United States
ATTACH;FMTTYPE=image/jpeg:https://ucckeene.org/wp-content/uploads/2022/06/Womens-Fellowship.jpg
END:VEVENT
BEGIN:VEVENT
DTSTART;TZID=America/New_York:20241117T090000
DTEND;TZID=America/New_York:20241117T130000
DTSTAMP:20260423T090009
CREATED:20241029T225830Z
LAST-MODIFIED:20241029T230008Z
UID:10001363-1731834000-1731848400@ucckeene.org
SUMMARY:Paintings of Birds\, Flowers at UCC-Keene
DESCRIPTION:Paintings of the birds and flowers in the backyard of Jim Lambert’s Greenville\, NH\, home are on display in the East Room Gallery at the United Church of Christ in Keene\, October through November 2024. The art exhibit is free and open to the public. \nJim Lambert is a native of Marlborough\, NH\, and a graduate of Keene State College and Rivier University. A longtime teacher of languages in southern New Hampshire schools\, he is a self-taught hobbyist who is inspired by his home’s several gardens\, nature’s abundance\, the Impressionist painters\, and his travels abroad. \nHis art philosophy is: Art nurtures the spirit; it survives the present; it should be accessible to all. He has won several awards for his art and has displayed his work at various venues\, including the Monadnock Area Artists Association’s “Art in the Park” in Keene. \nThe UCC-Keene Church is located at 23 Central Square\, with an accessible entrance via the rear door off Vernon Street. The East Room Gallery is on the ground floor. Call the Church office (603-352-4136) if you wish to visit during the week\, 9 am to 1 pm. The church is closed on Saturdays; open on Sundays from 9 am to noon.
URL:https://ucckeene.org/event/paintings-of-birds-flowers-at-ucc-keene-3/2024-11-17/
LOCATION:The United Church of Christ in Keene\, 23 Central Square\, Keene\, NH\, 03431\, United States
ATTACH;FMTTYPE=image/jpeg:https://ucckeene.org/wp-content/uploads/2024/10/thumbnail_img123202-3.jpeg
END:VEVENT
BEGIN:VEVENT
DTSTART;TZID=America/New_York:20241117T100000
DTEND;TZID=America/New_York:20241117T110000
DTSTAMP:20260423T090009
CREATED:20240917T133043Z
LAST-MODIFIED:20240917T133103Z
UID:10001294-1731837600-1731841200@ucckeene.org
SUMMARY:Sunday Worship\, Sermon in Music
DESCRIPTION:Join us for a special “Sermon in Music\,” featuring our choir\, soloists\, and instrumentalists. \nLive stream at ucckeene.org/worship-care/live/.
URL:https://ucckeene.org/event/sunday-worship-29/
LOCATION:The United Church of Christ in Keene\, 23 Central Square\, Keene\, NH\, 03431\, United States
ATTACH;FMTTYPE=image/jpeg:https://ucckeene.org/wp-content/uploads/2024/09/sermon.jpg
END:VEVENT
BEGIN:VEVENT
DTSTART;TZID=America/New_York:20241117T100000
DTEND;TZID=America/New_York:20241117T110000
DTSTAMP:20260423T090009
CREATED:20241102T115334Z
LAST-MODIFIED:20241102T115334Z
UID:10001365-1731837600-1731841200@ucckeene.org
SUMMARY:Thanksgiving Sermon-in-Music
DESCRIPTION:“Songs of Blessings” is a Thanksgiving Sermon-in-Music at the United Church of Christ in Keene\, 23 Central Square\, during the 10 am worship service\, Sunday\, November 17. \nSix pieces of choral music on the theme of “blessings” make up the Thanksgiving-themed sermon-in-music Music Director Beverly Caldon will play the organ and lead the church choir\, with additional musicians on bells\, flute\, oboe\, and bassoon. \nAll are welcome to the Thanksgiving Sermon-in-Music! A freewill offering will be taken at the service. \nThere is an accessible entrance at the rear of the Church building from Vernon Street\, with an elevator to the second floor Sanctuary. \nFor more information\, please call the Church Office\, 603-352-4136.
URL:https://ucckeene.org/event/thanksgiving-sermon-in-music/
LOCATION:The United Church of Christ in Keene\, 23 Central Square\, Keene\, NH\, 03431\, United States
ATTACH;FMTTYPE=image/jpeg:https://ucckeene.org/wp-content/uploads/2024/11/Fall.jpg
END:VEVENT
BEGIN:VEVENT
DTSTART;TZID=America/New_York:20241124T090000
DTEND;TZID=America/New_York:20241124T130000
DTSTAMP:20260423T090009
CREATED:20241029T225830Z
LAST-MODIFIED:20241029T230008Z
UID:10001364-1732438800-1732453200@ucckeene.org
SUMMARY:Paintings of Birds\, Flowers at UCC-Keene
DESCRIPTION:Paintings of the birds and flowers in the backyard of Jim Lambert’s Greenville\, NH\, home are on display in the East Room Gallery at the United Church of Christ in Keene\, October through November 2024. The art exhibit is free and open to the public. \nJim Lambert is a native of Marlborough\, NH\, and a graduate of Keene State College and Rivier University. A longtime teacher of languages in southern New Hampshire schools\, he is a self-taught hobbyist who is inspired by his home’s several gardens\, nature’s abundance\, the Impressionist painters\, and his travels abroad. \nHis art philosophy is: Art nurtures the spirit; it survives the present; it should be accessible to all. He has won several awards for his art and has displayed his work at various venues\, including the Monadnock Area Artists Association’s “Art in the Park” in Keene. \nThe UCC-Keene Church is located at 23 Central Square\, with an accessible entrance via the rear door off Vernon Street. The East Room Gallery is on the ground floor. Call the Church office (603-352-4136) if you wish to visit during the week\, 9 am to 1 pm. The church is closed on Saturdays; open on Sundays from 9 am to noon.
URL:https://ucckeene.org/event/paintings-of-birds-flowers-at-ucc-keene-3/2024-11-24/
LOCATION:The United Church of Christ in Keene\, 23 Central Square\, Keene\, NH\, 03431\, United States
ATTACH;FMTTYPE=image/jpeg:https://ucckeene.org/wp-content/uploads/2024/10/thumbnail_img123202-3.jpeg
END:VEVENT
BEGIN:VEVENT
DTSTART;TZID=America/New_York:20241124T100000
DTEND;TZID=America/New_York:20241124T110000
DTSTAMP:20260423T090009
CREATED:20240917T133112Z
LAST-MODIFIED:20240917T133136Z
UID:10001295-1732442400-1732446000@ucckeene.org
SUMMARY:Sunday Worship\, Thanksgiving Sunday
DESCRIPTION:Join us for a traditional Thanksgiving worship service\, complete with familiar hymns and beautiful choir and handbell selections! \nLive stream at ucckeene.org/worship-care/live/.
URL:https://ucckeene.org/event/sunday-worship-30/
LOCATION:The United Church of Christ in Keene\, 23 Central Square\, Keene\, NH\, 03431\, United States
ATTACH;FMTTYPE=image/jpeg:https://ucckeene.org/wp-content/uploads/2024/09/thanksgiving.jpg
END:VEVENT
END:VCALENDAR